BEGIN:VCALENDAR
VERSION:2.0
PRODID:spatie/icalendar-generator
DESCRIPTION:Events from Walker Chapel AME Church
X-WR-CALDESC:Events from Walker Chapel AME Church
REFRESH-INTERVAL;VALUE=DURATION:PT1440M
X-PUBLISHED-TTL:PT1440M
BEGIN:VTIMEZONE
TZID:America/New_York
BEGIN:STANDARD
DTSTART:20251102T020000Z
TZOFFSETFROM:-0400
TZOFFSETTO:-0500
END:STANDARD
BEGIN:DAYLIGHT
DTSTART:20260308T020000Z
TZOFFSETFROM:-0500
TZOFFSETTO:-0400
END:DAYLIGHT
BEGIN:STANDARD
DTSTART:20261101T020000Z
TZOFFSETFROM:-0400
TZOFFSETTO:-0500
END:STANDARD
END:VTIMEZONE
BEGIN:VTIMEZONE
TZID:UTC
BEGIN:STANDARD
DTSTART:20250729T133909Z
TZOFFSETFROM:+0000
TZOFFSETTO:+0000
END:STANDARD
END:VTIMEZONE
BEGIN:VEVENT
UID:354-9
DTSTAMP:20260425T133909Z
SUMMARY:Sunday Morning Worship Service
LOCATION:Walker Chapel AME Church 2400 E VALLEY RD  RENTON WA 98057
ORGANIZER;CN=admin:MAILTO:joy333711@gmail.com
RRULE:FREQ=WEEKLY;UNTIL=20301229T000000Z
DTSTART;TZID=America/New_York:20260628T103000
DTEND;TZID=America/New_York:20260628T120000
X-ALT-DESC;FMTTYPE=TEXT/HTML:
CATEGORIES:General
URL;VALUE=URI:https://wcamechurch-renton.com/mc-events/sunday-morning-worsh
 ip-service/?mc_id=354
METHOD:PUBLISH
END:VEVENT
END:VCALENDAR