BEGIN:VCALENDAR
VERSION:2.0
PRODID:spatie/icalendar-generator
DESCRIPTION:Events from Walker Chapel AME Church
X-WR-CALDESC:Events from Walker Chapel AME Church
REFRESH-INTERVAL;VALUE=DURATION:PT1440M
X-PUBLISHED-TTL:PT1440M
BEGIN:VTIMEZONE
TZID:America/New_York
BEGIN:DAYLIGHT
DTSTART:20250309T020000Z
TZOFFSETFROM:-0500
TZOFFSETTO:-0400
END:DAYLIGHT
BEGIN:STANDARD
DTSTART:20251102T020000Z
TZOFFSETFROM:-0400
TZOFFSETTO:-0500
END:STANDARD
BEGIN:DAYLIGHT
DTSTART:20260308T020000Z
TZOFFSETFROM:-0500
TZOFFSETTO:-0400
END:DAYLIGHT
END:VTIMEZONE
BEGIN:VTIMEZONE
TZID:UTC
BEGIN:STANDARD
DTSTART:20250729T131844Z
TZOFFSETFROM:+0000
TZOFFSETTO:+0000
END:STANDARD
END:VTIMEZONE
BEGIN:VEVENT
UID:20-2
DTSTAMP:20260425T131844Z
SUMMARY:Food Ministry Every First Friday of the Month.
LOCATION:Walker Chapel AME Church 2400 E VALLEY RD  RENTON WA 98057
ORGANIZER;CN=admin:MAILTO:joy333711@gmail.com
DTSTART;TZID=America/New_York:20251107T140000
DTEND;TZID=America/New_York:20251107T180000
X-ALT-DESC;FMTTYPE=TEXT/HTML:Food Donations flyer 2025 (1)
CATEGORIES:General
URL;VALUE=URI:https://wcamechurch-renton.com/mc-events/food-ministry-every-
 first-friday-of-the-month/
METHOD:PUBLISH
END:VEVENT
END:VCALENDAR